BEGIN:VCALENDAR
VERSION:2.0
PRODID:-//Torrington Cavaliers - ECPv6.15.20//NONSGML v1.0//EN
CALSCALE:GREGORIAN
METHOD:PUBLISH
X-WR-CALNAME:Torrington Cavaliers
X-ORIGINAL-URL:https://www.torrington-cavaliers.co.uk
X-WR-CALDESC:Events for Torrington Cavaliers
REFRESH-INTERVAL;VALUE=DURATION:PT1H
X-Robots-Tag:noindex
X-PUBLISHED-TTL:PT1H
BEGIN:VTIMEZONE
TZID:Europe/London
BEGIN:DAYLIGHT
TZOFFSETFROM:+0000
TZOFFSETTO:+0100
TZNAME:BST
DTSTART:20260329T010000
END:DAYLIGHT
BEGIN:STANDARD
TZOFFSETFROM:+0100
TZOFFSETTO:+0000
TZNAME:GMT
DTSTART:20261025T010000
END:STANDARD
BEGIN:DAYLIGHT
TZOFFSETFROM:+0000
TZOFFSETTO:+0100
TZNAME:BST
DTSTART:20270328T010000
END:DAYLIGHT
BEGIN:STANDARD
TZOFFSETFROM:+0100
TZOFFSETTO:+0000
TZNAME:GMT
DTSTART:20271031T010000
END:STANDARD
BEGIN:DAYLIGHT
TZOFFSETFROM:+0000
TZOFFSETTO:+0100
TZNAME:BST
DTSTART:20280326T010000
END:DAYLIGHT
BEGIN:STANDARD
TZOFFSETFROM:+0100
TZOFFSETTO:+0000
TZNAME:GMT
DTSTART:20281029T010000
END:STANDARD
END:VTIMEZONE
BEGIN:VEVENT
DTSTART;TZID=Europe/London:20270828T160000
DTEND;TZID=Europe/London:20270828T233000
DTSTAMP:20260421T201239
CREATED:20260303T151534Z
LAST-MODIFIED:20260303T151534Z
UID:12449-1819468800-1819495800@www.torrington-cavaliers.co.uk
SUMMARY:Bonfire 2027 - The White House
DESCRIPTION:
URL:https://www.torrington-cavaliers.co.uk/event/bonfire-2027-the-white-house/
CATEGORIES:Entertainment
END:VEVENT
END:VCALENDAR